Workbook

Sheet Coversheet
A1: ='Globals'!$C$4 -> Your Great Film
A3: Version:
A4: Dated:
A5: Director:
A6: Producer:
A7: TOTAL:
A9: ASSUMPTIONS:
A10: Shoot:
A11: Prep:
A12: Wrap:
A13: Post:
A14: Format:
A15: Ratio:
A17: Unions: | B17: SAG (Low Budget Agreement)
B18: IATSE for crew (Low Budget Area Agreement, Tier 1)
B19: DGA for UPM and ADs (Low Budget Sideletter, Level 2)
A21: Budget To: | B21: Negative Cost
B22: Full Sound Mix + Dolby License
B23: Full Music Clearance Fees
A26: Notes:
A27: 1 | B27: Assumes a 5-day week.
A28: 2 | B28: Assumes local crew hires with exception of Director (1), Producers (4), DP (1)

Sheet Topsheet
A1: YOUR GREAT FILM
A2: Version: | B2: 1 | C2: Time: | D2: 12pm
A3: Dated: | B3: WHEN | C3: Shoot: | D3: DAYS
A4: Director: | B4: YOU | C4: SAG: | D4: WHAT
A5: Prod: | B5: YOU | C5: Format: | D5: 4k
A6: Category | B6: Name | D6: Total
A7: ABOVE THE LINE | D7: 0
A8: 110-00 | B8: Writer | D8: 0
A9: 111-00 | B9: Producer | D9: ='Budget'!H29 -> 0
A10: 112-00 | B10: Director | D10: ='Budget'!H38 -> 0
A11: 113-00 | B11: Cast | D11: 0
A12: 114-00 | B12: ATL Travel/Housing | D12: =H112 -> 0
A13: 999-96 | B13: ATL FRINGES
B14: Subtotal Above-The-Line: | D14: =SUM(D8:D13) -> 0
A15: BELOW THE LINE
A16: 200-00 | B16: Production | D16: 0
A17: 201-00 | B17: Background | D17: 0
A18: 202-00 | B18: Production Design | D18: 0
A19: 203-00 | B19: Property | D19: 0
A20: 204-00 | B20: Set Dressing | D20: 0
A21: 205-00 | B21: Set Construction | D21: 0
A22: 206-00 | B22: Special Effects | D22: ='Budget'!H262 -> 0
A23: 207-00 | B23: Camera | D23: 0
A24: 208-00 | B24: Electric | D24: 0
A25: 209-00 | B25: Grip | D25: 0
A26: 210-00 | B26: Production Sound | D26: 0
A27: 211-00 | B27: Set Operations | D27: 0
A28: 212-00 | B28: Costume/Wardrobe | D28: 0
A29: 213-00 | B29: Hair/Makeup | D29: 0
A30: 214-00 | B30: Locations | D30: 0
A31: 215-00 | B31: Transportation | D31: 0
A32: 216-00 | B32: Production Stock / Digitizing | D32: 0
A33: 217-00 | B33: Unit Publicity | D33: 0
A34: 218-00 | B34: BTL Travel/Housing | D34: 0
A35: 219-00 | B35: Production Overhead | D35: 0
A36: 999-97 | B36: BTL FRINGES | D36: ='Budget'!H484 -> 0
B37: Subtotal Below-The-Line | D37: 0
B38: TOTAL PRODUCTION BUDGET: | D38: =SUM(D37,D14) -> 0
A40: POST-PRODUCTION
A41: 501-00 | B41: Editing | D41: 0
...

Sheet Budget
A1: THE DEPTHS | L1: HeadCount:
A2: Version: | B2: ='Globals'!$C$2 -> 1 | D2: Prep: | E2: 1Prep & " Weeks / " & Prep_Days & " Days" | J2: Exclude Contingency
A3: Dated: | B3: 41773 | D3: Shoot: | E3: 3 weeks | G3: 6 day work week | K3: Overtime | L3: Sales tax | M3: Headcount
A4: Director: | B4: YOU | D4: Wrap:
A5: Prod: | B5: YOU | D5: SAG: | E5: ULTRA LOW | AN5: <-- Hidden Columns (do not delete)
A6: Prepped: | B6: YOU | G6: Production Total: | H6: 0
G7: Grand Total: | H7: 0 | N7: Payroll Fringes | Q7: Union Health/Pension/Welfare
A8: Category | B8: Name | C8: Quantity | D8: Unit | E8: X | F8: Rate | G8: Subtotal | H8: Total | N8: FED. | O8: ST. | P8: SVC | Q8: SAG | R8: WGA | S8: DGA | T8: NHWPA | U8: MPIPH | V8: IAP | W8: TEAM | X8: Headcount | Y8: SAG | Z8: WGA | AA8: DGA | AB8: FED | AC8: ST | AD8: SVC | AE8: OT | AF8: NHWPA | AG8: MPIPH | AH8: IAP | AI8: TEAM | AJ8: ST | AK8: FRINGE | AL8: CONTINGENCY | AN8: Comments
A9: ABOVE THE LINE
A10: 110-00 | B10: Writer
A11: 110-01 | B11: Writer | D11: Allow | X11: =IF(M11="X",IF(D11="Weeks",C11*E11*'Globals'!$C$27,C11*E11),0) -> 0 | Y11: =IF(Q11="X",G11,0) -> 0 | Z11: =IF(R11="X",$G11,0) -> 0 | AA11: =IF(S11="X",$G11,0) -> 0 | AB11: =IF(N11="X",$G11,0) -> 0 | AC11: =IF(O11="X",$G11,0) -> 0 | AD11: =IF(P11="X",$G11,0) -> 0 | AE11: =IF(K11="X",$G11,0) -> 0 | AF11: =IF(T11="X",IF($D11="Days",$C11,$C11*'Globals'!$C$27)*$E11,0) -> 0 | AG11: =IF(U11="X",IF($D11="Days",$C11,$C11*'Globals'!$C$27)*$E11,0) -> 0 | AH11: =IF(V11="X",$G11,0) -> 0 | AI11: =IF(W11="X",$G11,0) -> 0 | AJ11: =IF(L11="X",$G11,0) -> 0 | AK11: =(IF(Q11="X",G11*'Globals'!$C$45,0))+(IF(N11="X",G11*'Globals'!$C$46,0))+(IF(O11="X",G11*'Globals'!$C$47,0))+(IF(K11="X",G11*'Globals'!$C$49,0))+(IF(T11="X",G11*'Globals'!$C$51,0))+(IF(L11="X",G11*'Globals'!$C$50,0)) -> 0 | AL11: =IF(J11="",G11,0) -> 0
A12: 110-02 | B12: Option Agreement | D12: Allow | X12: =IF(M12="X",IF(D12="Weeks",C12*E12*'Globals'!$C$27,C12*E12),0) -> 0 | Y12: =IF(Q12="X",G12,0) -> 0 | Z12: =IF(R12="X",$G12,0) -> 0 | AA12: =IF(S12="X",$G12,0) -> 0 | AB12: =IF(N12="X",$G12,0) -> 0 | AC12: =IF(O12="X",$G12,0) -> 0 | AD12: =IF(P12="X",$G12,0) -> 0 | AE12: =IF(K12="X",$G12,0) -> 0 | AF12: =IF(T12="X",IF(D12="Days",C12,C12*'Globals'!$C$27)*E12,0) -> 0 | AG12: =IF(U12="X",IF($D12="Days",$C12,$C12*'Globals'!$C$27)*$E12,0) -> 0 | AH12: =IF(V12="X",$G12,0) -> 0 | AI12: =IF(W12="X",$G12,0) -> 0 | AJ12: =IF(L12="X",$G12,0) -> 0 | AK12: =(IF(Q12="X",G12*'Globals'!$C$45,0))+(IF(N12="X",G12*'Globals'!$C$46,0))+(IF(O12="X",G12*'Globals'!$C$47,0))+(IF(K12="X",G12*'Globals'!$C$49,0))+(IF(T12="X",G12*'Globals'!$C$51,0))+(IF(L12="X",G12*'Globals'!$C$50,0)) -> 0 | AL12: =IF(J12="",G12,0) -> 0
A13: 110-03 | B13: Credit Bonus | D13: Allow | X13: =IF(M13="X",IF(D13="Weeks",C13*E13*'Globals'!$C$27,C13*E13),0) -> 0 | Y13: =IF(Q13="X",G13,0) -> 0 | Z13: =IF(R13="X",$G13,0) -> 0 | AA13: =IF(S13="X",$G13,0) -> 0 | AB13: =IF(N13="X",$G13,0) -> 0 | AC13: =IF(O13="X",$G13,0) -> 0 | AD13: =IF(P13="X",$G13,0) -> 0 | AE13: =IF(K13="X",$G13,0) -> 0 | AF13: =IF(T13="X",IF(D13="Days",C13,C13*'Globals'!$C$27)*E13,0) -> 0 | AG13: =IF(U13="X",IF($D13="Days",$C13,$C13*'Globals'!$C$27)*$E13,0) -> 0 | AH13: =IF(V13="X",$G13,0) -> 0 | AI13: =IF(W13="X",$G13,0) -> 0 | AJ13: =IF(L13="X",$G13,0) -> 0 | AK13: =(IF(Q13="X",G13*'Globals'!$C$45,0))+(IF(N13="X",G13*'Globals'!$C$46,0))+(IF(O13="X",G13*'Globals'!$C$47,0))+(IF(K13="X",G13*'Globals'!$C$49,0))+(IF(T13="X",G13*'Globals'!$C$51,0))+(IF(L13="X",G13*'Globals'!$C$50,0)) -> 0 | AL13: =IF(J13="",G13,0) -> 0
A14: 110-04 | B14: Publication Fee | D14: Allow | X14: =IF(M14="X",IF(D14="Weeks",C14*E14*'Globals'!$C$27,C14*E14),0) -> 0 | Y14: =IF(Q14="X",G14,0) -> 0 | Z14: =IF(R14="X",$G14,0) -> 0 | AA14: =IF(S14="X",$G14,0) -> 0 | AB14: =IF(N14="X",$G14,0) -> 0 | AC14: =IF(O14="X",$G14,0) -> 0 | AD14: =IF(P14="X",$G14,0) -> 0 | AE14: =IF(K14="X",$G14,0) -> 0 | AF14: =IF(T14="X",IF(D14="Days",C14,C14*'Globals'!$C$27)*E14,0) -> 0 | AG14: =IF(U14="X",IF($D14="Days",$C14,$C14*'Globals'!$C$27)*$E14,0) -> 0 | AH14: =IF(V14="X",$G14,0) -> 0 | AI14: =IF(W14="X",$G14,0) -> 0 | AJ14: =IF(L14="X",$G14,0) -> 0 | AK14: =(IF(Q14="X",G14*'Globals'!$C$45,0))+(IF(N14="X",G14*'Globals'!$C$46,0))+(IF(O14="X",G14*'Globals'!$C$47,0))+(IF(K14="X",G14*'Globals'!$C$49,0))+(IF(T14="X",G14*'Globals'!$C$51,0))+(IF(L14="X",G14*'Globals'!$C$50,0)) -> 0 | AL14: =IF(J14="",G14,0) -> 0
A15: 110-05 | B15: Script Clearance | D15: Allow | E15: 1 | G15: 0 | X15: =IF(M15="X",IF(D15="Weeks",C15*E15*'Globals'!$C$27,C15*E15),0) -> 0 | Y15: =IF(Q15="X",G15,0) -> 0 | Z15: =IF(R15="X",$G15,0) -> 0 | AA15: =IF(S15="X",$G15,0) -> 0 | AB15: =IF(N15="X",$G15,0) -> 0 | AC15: =IF(O15="X",$G15,0) -> 0 | AD15: =IF(P15="X",$G15,0) -> 0 | AE15: =IF(K15="X",$G15,0) -> 0 | AF15: =IF(T15="X",IF(D15="Days",C15,C15*'Globals'!$C$27)*E15,0) -> 0 | AG15: =IF(U15="X",IF($D15="Days",$C15,$C15*'Globals'!$C$27)*$E15,0) -> 0 | AH15: =IF(V15="X",$G15,0) -> 0 | AI15: =IF(W15="X",$G15,0) -> 0 | AJ15: =IF(L15="X",$G15,0) -> 0 | AK15: =(IF(Q15="X",G15*'Globals'!$C$45,0))+(IF(N15="X",G15*'Globals'!$C$46,0))+(IF(O15="X",G15*'Globals'!$C$47,0))+(IF(K15="X",G15*'Globals'!$C$49,0))+(IF(T15="X",G15*'Globals'!$C$51,0))+(IF(L15="X",G15*'Globals'!$C$50,0)) -> 0 | AL15: =IF(J15="",G15,0) -> 0
A16: 110-07 | B16: Misc. Xeroxing and Postage | D16: Allow | X16: =IF(M16="X",IF(D16="Weeks",C16*E16*'Globals'!$C$27,C16*E16),0) -> 0 | Y16: =IF(Q16="X",G16,0) -> 0 | Z16: =IF(R16="X",$G16,0) -> 0 | AA16: =IF(S16="X",$G16,0) -> 0 | AB16: =IF(N16="X",$G16,0) -> 0 | AC16: =IF(O16="X",$G16,0) -> 0 | AD16: =IF(P16="X",$G16,0) -> 0 | AE16: =IF(K16="X",$G16,0) -> 0 | AF16: =IF(T16="X",IF(D16="Days",C16,C16*'Globals'!$C$27)*E16,0) -> 0 | AG16: =IF(U16="X",IF($D16="Days",$C16,$C16*'Globals'!$C$27)*$E16,0) -> 0 | AH16: =IF(V16="X",$G16,0) -> 0 | AI16: =IF(W16="X",$G16,0) -> 0 | AJ16: =IF(L16="X",$G16,0) -> 0 | AK16: =(IF(Q16="X",G16*'Globals'!$C$45,0))+(IF(N16="X",G16*'Globals'!$C$46,0))+(IF(O16="X",G16*'Globals'!$C$47,0))+(IF(K16="X",G16*'Globals'!$C$49,0))+(IF(T16="X",G16*'Globals'!$C$51,0))+(IF(L16="X",G16*'Globals'!$C$50,0)) -> 0 | AL16: =IF(J16="",G16,0) -> 0
A17: 110-06 | B17: Copyright | D17: Allow | E17: 1 | G17: 0 | X17: =IF(M17="X",IF(D17="Weeks",C17*E17*'Globals'!$C$27,C17*E17),0) -> 0 | Y17: =IF(Q17="X",G17,0) -> 0 | Z17: =IF(R17="X",$G17,0) -> 0 | AA17: =IF(S17="X",$G17,0) -> 0 | AB17: =IF(N17="X",$G17,0) -> 0 | AC17: =IF(O17="X",$G17,0) -> 0 | AD17: =IF(P17="X",$G17,0) -> 0 | AE17: =IF(K17="X",$G17,0) -> 0 | AF17: =IF(T17="X",IF(D17="Days",C17,C17*'Globals'!$C$27)*E17,0) -> 0 | AG17: =IF(U17="X",IF($D17="Days",$C17,$C17*'Globals'!$C$27)*$E17,0) -> 0 | AH17: =IF(V17="X",$G17,0) -> 0 | AI17: =IF(W17="X",$G17,0) -> 0 | AJ17: =IF(L17="X",$G17,0) -> 0 | AK17: =(IF(Q17="X",G17*'Globals'!$C$45,0))+(IF(N17="X",G17*'Globals'!$C$46,0))+(IF(O17="X",G17*'Globals'!$C$47,0))+(IF(K17="X",G17*'Globals'!$C$49,0))+(IF(T17="X",G17*'Globals'!$C$51,0))+(IF(L17="X",G17*'Globals'!$C$50,0)) -> 0 | AL17: =IF(J17="",G17,0) -> 0
B19: Subtotal Acct 110-00: | H19: =SUM(G11:G18) -> 0
A21: 111-00 | B21: Producer
A22: 111-01 | B22: Executive Producers | D22: Months | X22: =IF(M22="X",IF(D22="Weeks",C22*E22*'Globals'!$C$27,C22*E22),0) -> 0 | Y22: =IF(Q22="X",G22,0) -> 0 | Z22: =IF(R22="X",$G22,0) -> 0 | AA22: =IF(S22="X",$G22,0) -> 0 | AB22: =IF(N22="X",$G22,0) -> 0 | AC22: =IF(O22="X",$G22,0) -> 0 | AD22: =IF(P22="X",$G22,0) -> 0 | AE22: =IF(K22="X",$G22,0) -> 0 | AF22: =IF(T22="X",IF(D22="Days",C22,C22*'Globals'!$C$27)*E22,0) -> 0 | AG22: =IF(U22="X",IF($D22="Days",$C22,$C22*'Globals'!$C$27)*$E22,0) -> 0 | AH22: =IF(V22="X",$G22,0) -> 0 | AI22: =IF(W22="X",$G22,0) -> 0 | AJ22: =IF(L22="X",$G22,0) -> 0 | AK22: =(IF(Q22="X",G22*'Globals'!$C$45,0))+(IF(N22="X",G22*'Globals'!$C$46,0))+(IF(O22="X",G22*'Globals'!$C$47,0))+(IF(K22="X",G22*'Globals'!$C$49,0))+(IF(T22="X",G22*'Globals'!$C$51,0))+(IF(L22="X",G22*'Globals'!$C$50,0)) -> 0 | AL22: =IF(J22="",G22,0) -> 0
A23: 111-02 | B23: Producers | D23: Months | X23: =IF(M23="X",IF(D23="Weeks",C23*E23*'Globals'!$C$27,C23*E23),0) -> 0 | Y23: =IF(Q23="X",G23,0) -> 0 | Z23: =IF(R23="X",$G23,0) -> 0 | AA23: =IF(S23="X",$G23,0) -> 0 | AB23: =IF(N23="X",$G23,0) -> 0 | AC23: =IF(O23="X",$G23,0) -> 0 | AD23: =IF(P23="X",$G23,0) -> 0 | AE23: =IF(K23="X",$G23,0) -> 0 | AF23: =IF(T23="X",IF(D23="Days",C23,C23*'Globals'!$C$27)*E23,0) -> 0 | AG23: =IF(U23="X",IF($D23="Days",$C23,$C23*'Globals'!$C$27)*$E23,0) -> 0 | AH23: =IF(V23="X",$G23,0) -> 0 | AI23: =IF(W23="X",$G23,0) -> 0 | AJ23: =IF(L23="X",$G23,0) -> 0 | AK23: =(IF(Q23="X",G23*'Globals'!$C$45,0))+(IF(N23="X",G23*'Globals'!$C$46,0))+(IF(O23="X",G23*'Globals'!$C$47,0))+(IF(K23="X",G23*'Globals'!$C$49,0))+(IF(T23="X",G23*'Globals'!$C$51,0))+(IF(L23="X",G23*'Globals'!$C$50,0)) -> 0 | AL23: =IF(J23="",G23,0) -> 0
A24: 111-03 | B24: Co-Producers | D24: Months | X24: =IF(M24="X",IF(D24="Weeks",C24*E24*'Globals'!$C$27,C24*E24),0) -> 0 | Y24: =IF(Q24="X",G24,0) -> 0 | Z24: =IF(R24="X",$G24,0) -> 0 | AA24: =IF(S24="X",$G24,0) -> 0 | AB24: =IF(N24="X",$G24,0) -> 0 | AC24: =IF(O24="X",$G24,0) -> 0 | AD24: =IF(P24="X",$G24,0) -> 0 | AE24: =IF(K24="X",$G24,0) -> 0 | AF24: =IF(T24="X",IF(D24="Days",C24,C24*'Globals'!$C$27)*E24,0) -> 0 | AG24: =IF(U24="X",IF($D24="Days",$C24,$C24*'Globals'!$C$27)*$E24,0) -> 0 | AH24: =IF(V24="X",$G24,0) -> 0 | AI24: =IF(W24="X",$G24,0) -> 0 | AJ24: =IF(L24="X",$G24,0) -> 0 | AK24: =(IF(Q24="X",G24*'Globals'!$C$45,0))+(IF(N24="X",G24*'Globals'!$C$46,0))+(IF(O24="X",G24*'Globals'!$C$47,0))+(IF(K24="X",G24*'Globals'!$C$49,0))+(IF(T24="X",G24*'Globals'!$C$51,0))+(IF(L24="X",G24*'Globals'!$C$50,0)) -> 0 | AL24: =IF(J24="",G24,0) -> 0
A25: 111-04 | B25: Associate Producers | D25: Months | X25: =IF(M25="X",IF(D25="Weeks",C25*E25*'Globals'!$C$27,C25*E25),0) -> 0 | Y25: =IF(Q25="X",G25,0) -> 0 | Z25: =IF(R25="X",$G25,0) -> 0 | AA25: =IF(S25="X",$G25,0) -> 0 | AB25: =IF(N25="X",$G25,0) -> 0 | AC25: =IF(O25="X",$G25,0) -> 0 | AD25: =IF(P25="X",$G25,0) -> 0 | AE25: =IF(K25="X",$G25,0) -> 0 | AF25: =IF(T25="X",IF(D25="Days",C25,C25*'Globals'!$C$27)*E25,0) -> 0 | AG25: =IF(U25="X",IF($D25="Days",$C25,$C25*'Globals'!$C$27)*$E25,0) -> 0 | AH25: =IF(V25="X",$G25,0) -> 0 | AI25: =IF(W25="X",$G25,0) -> 0 | AJ25: =IF(L25="X",$G25,0) -> 0 | AK25: =(IF(Q25="X",G25*'Globals'!$C$45,0))+(IF(N25="X",G25*'Globals'!$C$46,0))+(IF(O25="X",G25*'Globals'!$C$47,0))+(IF(K25="X",G25*'Globals'!$C$49,0))+(IF(T25="X",G25*'Globals'!$C$51,0))+(IF(L25="X",G25*'Globals'!$C$50,0)) -> 0 | AL25: =IF(J25="",G25,0) -> 0
A26: 111-05 | B26: Development Expenses | D26: Allow | X26: =IF(M26="X",IF(D26="Weeks",C26*E26*'Globals'!$C$27,C26*E26),0) -> 0 | Y26: =IF(Q26="X",G26,0) -> 0 | Z26: =IF(R26="X",$G26,0) -> 0 | AA26: =IF(S26="X",$G26,0) -> 0 | AB26: =IF(N26="X",$G26,0) -> 0 | AC26: =IF(O26="X",$G26,0) -> 0 | AD26: =IF(P26="X",$G26,0) -> 0 | AE26: =IF(K26="X",$G26,0) -> 0 | AF26: =IF(T26="X",IF(D26="Days",C26,C26*'Globals'!$C$27)*E26,0) -> 0 | AG26: =IF(U26="X",IF($D26="Days",$C26,$C26*'Globals'!$C$27)*$E26,0) -> 0 | AH26: =IF(V26="X",$G26,0) -> 0 | AI26: =IF(W26="X",$G26,0) -> 0 | AJ26: =IF(L26="X",$G26,0) -> 0 | AK26: =(IF(Q26="X",G26*'Globals'!$C$45,0))+(IF(N26="X",G26*'Globals'!$C$46,0))+(IF(O26="X",G26*'Globals'!$C$47,0))+(IF(K26="X",G26*'Globals'!$C$49,0))+(IF(T26="X",G26*'Globals'!$C$51,0))+(IF(L26="X",G26*'Globals'!$C$50,0)) -> 0 | AL26: =IF(J26="",G26,0) -> 0
A27: 111-06 | B27: Marketing Consultant | D27: Allow | F27: 0 | X27: =IF(M27="X",IF(D27="Weeks",C27*E27*'Globals'!$C$27,C27*E27),0) -> 0 | Y27: =IF(Q27="X",G27,0) -> 0 | Z27: =IF(R27="X",$G27,0) -> 0 | AA27: =IF(S27="X",$G27,0) -> 0 | AB27: =IF(N27="X",$G27,0) -> 0 | AC27: =IF(O27="X",$G27,0) -> 0 | AD27: =IF(P27="X",$G27,0) -> 0 | AE27: =IF(K27="X",$G27,0) -> 0 | AF27: =IF(T27="X",IF(D27="Days",C27,C27*'Globals'!$C$27)*E27,0) -> 0 | AG27: =IF(U27="X",IF($D27="Days",$C27,$C27*'Globals'!$C$27)*$E27,0) -> 0 | AH27: =IF(V27="X",$G27,0) -> 0 | AI27: =IF(W27="X",$G27,0) -> 0 | AJ27: =IF(L27="X",$G27,0) -> 0 | AK27: =(IF(Q27="X",G27*'Globals'!$C$45,0))+(IF(N27="X",G27*'Globals'!$C$46,0))+(IF(O27="X",G27*'Globals'!$C$47,0))+(IF(K27="X",G27*'Globals'!$C$49,0))+(IF(T27="X",G27*'Globals'!$C$51,0))+(IF(L27="X",G27*'Globals'!$C$50,0)) -> 0 | AL27: =IF(J27="",G27,0) -> 0
B29: Subtotal Acct 111-00:
A31: 112-00 | B31: Director
A32: 112-01 | B32: Director | D32: Months | X32: =IF(M32="X",IF(D32="Weeks",C32*E32*'Globals'!$C$27,C32*E32),0) -> 0 | Y32: =IF(Q32="X",G32,0) -> 0 | Z32: =IF(R32="X",$G32,0) -> 0 | AA32: =IF(S32="X",$G32,0) -> 0 | AB32: =IF(N32="X",$G32,0) -> 0 | AC32: =IF(O32="X",$G32,0) -> 0 | AD32: =IF(P32="X",$G32,0) -> 0 | AE32: =IF(K32="X",$G32,0) -> 0 | AF32: =IF(T32="X",IF(D32="Days",C32,C32*'Globals'!$C$27)*E32,0) -> 0 | AG32: =IF(U32="X",IF($D32="Days",$C32,$C32*'Globals'!$C$27)*$E32,0) -> 0 | AH32: =IF(V32="X",$G32,0) -> 0 | AI32: =IF(W32="X",$G32,0) -> 0 | AJ32: =IF(L32="X",$G32,0) -> 0 | AK32: =(IF(Q32="X",G32*'Globals'!$C$45,0))+(IF(N32="X",G32*'Globals'!$C$46,0))+(IF(O32="X",G32*'Globals'!$C$47,0))+(IF(K32="X",G32*'Globals'!$C$49,0))+(IF(T32="X",G32*'Globals'!$C$51,0))+(IF(L32="X",G32*'Globals'!$C$50,0)) -> 0 | AL32: =IF(J32="",G32,0) -> 0
A33: 112-01 | B33: Director's Assistant | D33: Months | X33: =IF(M33="X",IF(D33="Weeks",C33*E33*'Globals'!$C$27,C33*E33),0) -> 0 | Y33: =IF(Q33="X",G33,0) -> 0 | Z33: =IF(R33="X",$G33,0) -> 0 | AA33: =IF(S33="X",$G33,0) -> 0 | AB33: =IF(N33="X",$G33,0) -> 0 | AC33: =IF(O33="X",$G33,0) -> 0 | AD33: =IF(P33="X",$G33,0) -> 0 | AE33: =IF(K33="X",$G33,0) -> 0 | AF33: =IF(T33="X",IF(D33="Days",C33,C33*'Globals'!$C$27)*E33,0) -> 0 | AG33: =IF(U33="X",IF($D33="Days",$C33,$C33*'Globals'!$C$27)*$E33,0) -> 0 | AH33: =IF(V33="X",$G33,0) -> 0 | AI33: =IF(W33="X",$G33,0) -> 0 | AJ33: =IF(L33="X",$G33,0) -> 0 | AK33: =(IF(Q33="X",G33*'Globals'!$C$45,0))+(IF(N33="X",G33*'Globals'!$C$46,0))+(IF(O33="X",G33*'Globals'!$C$47,0))+(IF(K33="X",G33*'Globals'!$C$49,0))+(IF(T33="X",G33*'Globals'!$C$51,0))+(IF(L33="X",G33*'Globals'!$C$50,0)) -> 0 | AL33: =IF(J33="",G33,0) -> 0
A34: 112-03 | B34: Director Expenses | D34: Months | X34: =IF(M34="X",IF(D34="Weeks",C34*E34*'Globals'!$C$27,C34*E34),0) -> 0 | Y34: =IF(Q34="X",G34,0) -> 0 | Z34: =IF(R34="X",$G34,0) -> 0 | AA34: =IF(S34="X",$G34,0) -> 0 | AB34: =IF(N34="X",$G34,0) -> 0 | AC34: =IF(O34="X",$G34,0) -> 0 | AD34: =IF(P34="X",$G34,0) -> 0 | AE34: =IF(K34="X",$G34,0) -> 0 | AF34: =IF(T34="X",IF(D34="Days",C34,C34*'Globals'!$C$27)*E34,0) -> 0 | AG34: =IF(U34="X",IF($D34="Days",$C34,$C34*'Globals'!$C$27)*$E34,0) -> 0 | AH34: =IF(V34="X",$G34,0) -> 0 | AI34: =IF(W34="X",$G34,0) -> 0 | AJ34: =IF(L34="X",$G34,0) -> 0 | AK34: =(IF(Q34="X",G34*'Globals'!$C$45,0))+(IF(N34="X",G34*'Globals'!$C$46,0))+(IF(O34="X",G34*'Globals'!$C$47,0))+(IF(K34="X",G34*'Globals'!$C$49,0))+(IF(T34="X",G34*'Globals'!$C$51,0))+(IF(L34="X",G34*'Globals'!$C$50,0)) -> 0 | AL34: =IF(J34="",G34,0) -> 0
A35: 112-04 | B35: Research | D35: Months | X35: =IF(M35="X",IF(D35="Weeks",C35*E35*'Globals'!$C$27,C35*E35),0) -> 0 | Y35: =IF(Q35="X",G35,0) -> 0 | Z35: =IF(R35="X",$G35,0) -> 0 | AA35: =IF(S35="X",$G35,0) -> 0 | AB35: =IF(N35="X",$G35,0) -> 0 | AC35: =IF(O35="X",$G35,0) -> 0 | AD35: =IF(P35="X",$G35,0) -> 0 | AE35: =IF(K35="X",$G35,0) -> 0 | AF35: =IF(T35="X",IF(D35="Days",C35,C35*'Globals'!$C$27)*E35,0) -> 0 | AG35: =IF(U35="X",IF($D35="Days",$C35,$C35*'Globals'!$C$27)*$E35,0) -> 0 | AH35: =IF(V35="X",$G35,0) -> 0 | AI35: =IF(W35="X",$G35,0) -> 0 | AJ35: =IF(L35="X",$G35,0) -> 0 | AK35: =(IF(Q35="X",G35*'Globals'!$C$45,0))+(IF(N35="X",G35*'Globals'!$C$46,0))+(IF(O35="X",G35*'Globals'!$C$47,0))+(IF(K35="X",G35*'Globals'!$C$49,0))+(IF(T35="X",G35*'Globals'!$C$51,0))+(IF(L35="X",G35*'Globals'!$C$50,0)) -> 0 | AL35: =IF(J35="",G35,0) -> 0
A36: 112-04 | B36: Research | D36: Months | X36: =IF(M36="X",IF(D36="Weeks",C36*E36*'Globals'!$C$27,C36*E36),0) -> 0 | Y36: =IF(Q36="X",G36,0) -> 0 | Z36: =IF(R36="X",$G36,0) -> 0 | AA36: =IF(S36="X",$G36,0) -> 0 | AB36: =IF(N36="X",$G36,0) -> 0 | AC36: =IF(O36="X",$G36,0) -> 0 | AD36: =IF(P36="X",$G36,0) -> 0 | AE36: =IF(K36="X",$G36,0) -> 0 | AF36: =IF(T36="X",IF(D36="Days",C36,C36*'Globals'!$C$27)*E36,0) -> 0 | AG36: =IF(U36="X",IF($D36="Days",$C36,$C36*'Globals'!$C$27)*$E36,0) -> 0 | AH36: =IF(V36="X",$G36,0) -> 0 | AI36: =IF(W36="X",$G36,0) -> 0 | AJ36: =IF(L36="X",$G36,0) -> 0 | AK36: =(IF(Q36="X",G36*'Globals'!$C$45,0))+(IF(N36="X",G36*'Globals'!$C$46,0))+(IF(O36="X",G36*'Globals'!$C$47,0))+(IF(K36="X",G36*'Globals'!$C$49,0))+(IF(T36="X",G36*'Globals'!$C$51,0))+(IF(L36="X",G36*'Globals'!$C$50,0)) -> 0 | AL36: =IF(J36="",G36,0) -> 0
B38: Subtotal Acct 112-00:
A40: 113-00 | B40: Cast
A41: 113-01 | B41: Lead Roles | X41: =IF(M41="X",IF(D41="Weeks",C41*E41*'Globals'!$C$27,C41*E41),0) -> 0 | Y41: =IF(Q41="X",G41,0) -> 0 | Z41: =IF(R41="X",$G41,0) -> 0 | AA41: =IF(S41="X",$G41,0) -> 0 | AB41: =IF(N41="X",$G41,0) -> 0 | AC41: =IF(O41="X",$G41,0) -> 0 | AD41: =IF(P41="X",$G41,0) -> 0 | AE41: =IF(K41="X",$G41,0) -> 0 | AF41: =IF(T41="X",IF(D41="Days",C41,C41*'Globals'!$C$27)*E41,0) -> 0 | AG41: =IF(U41="X",IF($D41="Days",$C41,$C41*'Globals'!$C$27)*$E41,0) -> 0 | AH41: =IF(V41="X",$G41,0) -> 0 | AI41: =IF(W41="X",$G41,0) -> 0 | AJ41: =IF(L41="X",$G41,0) -> 0 | AK41: =(IF(Q41="X",G41*'Globals'!$C$45,0))+(IF(N41="X",G41*'Globals'!$C$46,0))+(IF(O41="X",G41*'Globals'!$C$47,0))+(IF(K41="X",G41*'Globals'!$C$49,0))+(IF(T41="X",G41*'Globals'!$C$51,0))+(IF(L41="X",G41*'Globals'!$C$50,0)) -> 0 | AL41: =IF(J41="",G41,0) -> 0
B42: Lead #1 | C42: 3 | D42: Weeks | E42: 3 | F42: 0 | G42: 0 | M42: x | N42: X | O42: x | P42: x | Q42: X | X42: =IF(M42="X",IF(D42="Weeks",C42*E42*'Globals'!$C$27,C42*E42),0) -> 54 | Y42: =IF(Q42="X",G42,0) -> 0 | Z42: =IF(R42="X",$G42,0) -> 0 | AA42: =IF(S42="X",$G42,0) -> 0 | AB42: =IF(N42="X",$G42,0) -> 0 | AC42: =IF(O42="X",$G42,0) -> 0 | AD42: =IF(P42="X",$G42,0) -> 0 | AE42: =IF(K42="X",$G42,0) -> 0 | AF42: =IF(T42="X",IF(D42="Days",C42,C42*'Globals'!$C$27)*E42,0) -> 0 | AG42: =IF(U42="X",IF($D42="Days",$C42,$C42*'Globals'!$C$27)*$E42,0) -> 0 | AH42: =IF(V42="X",$G42,0) -> 0 | AI42: =IF(W42="X",$G42,0) -> 0 | AJ42: =IF(L42="X",$G42,0) -> 0 | AK42: =(IF(Q42="X",G42*'Globals'!$C$45,0))+(IF(N42="X",G42*'Globals'!$C$46,0))+(IF(O42="X",G42*'Globals'!$C$47,0))+(IF(K42="X",G42*'Globals'!$C$49,0))+(IF(T42="X",G42*'Globals'!$C$51,0))+(IF(L42="X",G42*'Globals'!$C$50,0)) -> 0 | AL42: =IF(J42="",G42,0) -> 0
B43: Lead #2 | C43: 2days | D43: Weeks | E43: 2 | F43: 0 | G43: 0 | M43: x | N43: X | O43: x | P43: x | Q43: X | X43: =IF(M43="X",IF(D43="Weeks",C43*E43*'Globals'!$C$27,C43*E43),0) -> 24 | Y43: =IF(Q43="X",G43,0) -> 0 | Z43: =IF(R43="X",$G43,0) -> 0 | AA43: =IF(S43="X",$G43,0) -> 0 | AB43: =IF(N43="X",$G43,0) -> 0 | AC43: =IF(O43="X",$G43,0) -> 0 | AD43: =IF(P43="X",$G43,0) -> 0 | AE43: =IF(K43="X",$G43,0) -> 0 | AF43: =IF(T43="X",IF(D43="Days",C43,C43*'Globals'!$C$27)*E43,0) -> 0 | AG43: =IF(U43="X",IF($D43="Days",$C43,$C43*'Globals'!$C$27)*$E43,0) -> 0 | AH43: =IF(V43="X",$G43,0) -> 0 | AI43: =IF(W43="X",$G43,0) -> 0 | AJ43: =IF(L43="X",$G43,0) -> 0 | AK43: =(IF(Q43="X",G43*'Globals'!$C$45,0))+(IF(N43="X",G43*'Globals'!$C$46,0))+(IF(O43="X",G43*'Globals'!$C$47,0))+(IF(K43="X",G43*'Globals'!$C$49,0))+(IF(T43="X",G43*'Globals'!$C$51,0))+(IF(L43="X",G43*'Globals'!$C$50,0)) -> 0 | AL43: =IF(J43="",G43,0) -> 0
B44: Lead #3 | C44: 2 | D44: Weeks | E44: 1 | F44: 0 | G44: 0 | M44: x | N44: X | O44: x | P44: x | Q44: X | X44: =IF(M44="X",IF(D44="Weeks",C44*E44*'Globals'!$C$27,C44*E44),0) -> 12 | Y44: =IF(Q44="X",G44,0) -> 0 | Z44: =IF(R44="X",$G44,0) -> 0 | AA44: =IF(S44="X",$G44,0) -> 0 | AB44: =IF(N44="X",$G44,0) -> 0 | AC44: =IF(O44="X",$G44,0) -> 0 | AD44: =IF(P44="X",$G44,0) -> 0 | AE44: =IF(K44="X",$G44,0) -> 0 | AF44: =IF(T44="X",IF(D44="Days",C44,C44*'Globals'!$C$27)*E44,0) -> 0 | AG44: =IF(U44="X",IF($D44="Days",$C44,$C44*'Globals'!$C$27)*$E44,0) -> 0 | AH44: =IF(V44="X",$G44,0) -> 0 | AI44: =IF(W44="X",$G44,0) -> 0 | AJ44: =IF(L44="X",$G44,0) -> 0 | AK44: =(IF(Q44="X",G44*'Globals'!$C$45,0))+(IF(N44="X",G44*'Globals'!$C$46,0))+(IF(O44="X",G44*'Globals'!$C$47,0))+(IF(K44="X",G44*'Globals'!$C$49,0))+(IF(T44="X",G44*'Globals'!$C$51,0))+(IF(L44="X",G44*'Globals'!$C$50,0)) -> 0 | AL44: =IF(J44="",G44,0) -> 0
B45: Lead #2 | C45: 2 | D45: Weeks | E45: 2 | F45: 0 | G45: 0 | M45: x | N45: X | O45: x | P45: x | Q45: X | X45: =IF(M45="X",IF(D45="Weeks",C45*E45*'Globals'!$C$27,C45*E45),0) -> 24 | Y45: =IF(Q45="X",G45,0) -> 0 | Z45: =IF(R45="X",$G45,0) -> 0 | AA45: =IF(S45="X",$G45,0) -> 0 | AB45: =IF(N45="X",$G45,0) -> 0 | AC45: =IF(O45="X",$G45,0) -> 0 | AD45: =IF(P45="X",$G45,0) -> 0 | AE45: =IF(K45="X",$G45,0) -> 0 | AF45: =IF(T45="X",IF(D45="Days",C45,C45*'Globals'!$C$27)*E45,0) -> 0 | AG45: =IF(U45="X",IF($D45="Days",$C45,$C45*'Globals'!$C$27)*$E45,0) -> 0 | AH45: =IF(V45="X",$G45,0) -> 0 | AI45: =IF(W45="X",$G45,0) -> 0 | AJ45: =IF(L45="X",$G45,0) -> 0 | AK45: =(IF(Q45="X",G45*'Globals'!$C$45,0))+(IF(N45="X",G45*'Globals'!$C$46,0))+(IF(O45="X",G45*'Globals'!$C$47,0))+(IF(K45="X",G45*'Globals'!$C$49,0))+(IF(T45="X",G45*'Globals'!$C$51,0))+(IF(L45="X",G45*'Globals'!$C$50,0)) -> 0 | AL45: =IF(J45="",G45,0) -> 0
B46: Lead# 4 | C46: 2 | D46: Days | F46: 0 | G46: 0 | M46: x | N46: X | O46: x | P46: x | Q46: X | X46: =IF(M46="X",IF(D46="Weeks",C46*E46*'Globals'!$C$27,C46*E46),0) -> 0 | Y46: =IF(Q46="X",G46,0) -> 0 | Z46: =IF(R46="X",$G46,0) -> 0 | AA46: =IF(S46="X",$G46,0) -> 0 | AB46: =IF(N46="X",$G46,0) -> 0 | AC46: =IF(O46="X",$G46,0) -> 0 | AD46: =IF(P46="X",$G46,0) -> 0 | AE46: =IF(K46="X",$G46,0) -> 0 | AF46: =IF(T46="X",IF(D46="Days",C46,C46*'Globals'!$C$27)*E46,0) -> 0 | AG46: =IF(U46="X",IF($D46="Days",$C46,$C46*'Globals'!$C$27)*$E46,0) -> 0 | AH46: =IF(V46="X",$G46,0) -> 0 | AI46: =IF(W46="X",$G46,0) -> 0 | AJ46: =IF(L46="X",$G46,0) -> 0 | AK46: =(IF(Q46="X",G46*'Globals'!$C$45,0))+(IF(N46="X",G46*'Globals'!$C$46,0))+(IF(O46="X",G46*'Globals'!$C$47,0))+(IF(K46="X",G46*'Globals'!$C$49,0))+(IF(T46="X",G46*'Globals'!$C$51,0))+(IF(L46="X",G46*'Globals'!$C$50,0)) -> 0 | AL46: =IF(J46="",G46,0) -> 0
...

Sheet Globals
A1: GLOBALS:
B2: Budget Version: | C2: 1
B3: Budget Date: | C3: 41639
B4: Budget Name: | C4: Your Great Film
B5: Director: | C5: Brilliant Director
B6: Producer: | C6: Brilliant Producer
B7: Prepped By: | C7: Brilliant UPM
A9: GENERAL:
B10: Time: | C10: 120 | D10: Minutes
B11: Format: | C11: 4K
B12: Ratio: | C12: 9
B13: Feet: | C13: 90
B14: Reels: | C14: =$C$10/20 -> 6
B15: Contingency: | C15: 0.1
B16: Insurance | C16: 0
A18: SHOOT PERIOD:
B19: Shoot Days: | C19: 24 | D19: Days
B20: Prep Days: | C20: 12 | D20: Days
B21: Travel Days: | C21: 1 | D21: Days
B22: Wrap Days: | C22: 5 | D22: Days
B23: Prep: | C23: 3 | D23: Weeks
B24: Shoot: | C24: 4 | D24: Weeks
B25: Wrap: | C25: 1 | D25: Week
B26: Post: | C26: 12 | D26: Weeks
B27: Days Per Week | C27: =$C$19/$C$24 -> 6 | D27: Days
A29: NON-UNION SALARIES (DO NOT USE IN THE CASE OF UNION CREW, USE BELOW):
D30: Daily | E30: Weekly | F30: Hourly
B31: Crew | C31: Super | D31: =$D$32+50 -> 200 | E31: =$D$31*($C$19/$C$24) -> 1200 | F31: =$D$31/$D$36 -> 16.666667
C32: First: | D32: 150 | E32: =$D$32*($C$19/$C$24) -> 900 | F32: =$D$32/$D$36 -> 12.5 | G32: DON’T CHANGE WEEKLY OR HOURLY NUMBERS
C33: Second: | D33: 125 | E33: =$D$33*($C$19/$C$24) -> 750 | F33: =$D$33/$D$36 -> 10.416667
C34: Third: | D34: 100 | E34: =$D$34*($C$19/$C$24) -> 600 | F34: =$D$34/$D$36 -> 8.3333333
C35: PA: | D35: 100 | E35: =$D$35*($C$19/$C$24) -> 600 | F35: =$D$35/$D$36 -> 8.3333333
C36: Standard Hours: | D36: 12
C37: OT Hours: | D37: 14
B39: Cast | C39: SAG | D39: =C67 -> 247.5 | E39: =D67 -> 797.5 | F39: DON'T CHANGE HERE. See below
A42: FRINGES:
B43: WGA | C43: 0 | D43: WGA Health, Pension & Welfare
B44: DGA | C44: 0 | D44: DGA Health, Pension & Welfare
B45: SAG | C45: 0.163 | D45: SAG Health, Pension & Welfare
B46: Federal | C46: 0.0845 | D46: Social Security & Medicare
...
